BEGIN:VCALENDAR
VERSION:2.0
PRODID:-//ical.marudot.com//iCal Event Maker
CALSCALE:GREGORIAN
BEGIN:VTIMEZONE
TZID:Europe/Berlin
LAST-MODIFIED:20250410T142247Z
TZURL:https://www.tzurl.org/zoneinfo-outlook/Europe/Berlin
X-LIC-LOCATION:Europe/Berlin
BEGIN:DAYLIGHT
TZNAME:CEST
TZOFFSETFROM:+0100
TZOFFSETTO:+0200
DTSTART:19700329T020000
RRULE:FREQ=YEARLY;BYMONTH=3;BYDAY=-1SU
END:DAYLIGHT
BEGIN:STANDARD
TZNAME:CET
TZOFFSETFROM:+0200
TZOFFSETTO:+0100
DTSTART:19701025T030000
RRULE:FREQ=YEARLY;BYMONTH=10;BYDAY=-1SU
END:STANDARD
END:VTIMEZONE
BEGIN:VEVENT
DTSTAMP:20260419T164707Z
UID:1765192707434-83244@ical.marudot.com
DTSTART;TZID=Europe/Berlin:20260117T160000
DTEND;TZID=Europe/Berlin:20260117T210000
SUMMARY:LF94-JHV-Bruderschaft
DESCRIPTION:Jahreshauptversammlung der Bruderschaft im Forum Wasserturm
LOCATION:Antreten: Wasserstadt
BEGIN:VALARM
ACTION:DISPLAY
DESCRIPTION:LF94-JHV-Bruderschaft
TRIGGER:-PT1H
END:VALARM
END:VEVENT
BEGIN:VEVENT
DTSTAMP:20260419T164707Z
UID:1765192777284-41630@ical.marudot.com
DTSTART;TZID=Europe/Berlin:20260203T200000
DTEND;TZID=Europe/Berlin:20260203T210000
SUMMARY:LF94-VSS
DESCRIPTION:Vorstandssitzung (Nur Vorstand)
LOCATION:Haus Baumeister
BEGIN:VALARM
ACTION:DISPLAY
DESCRIPTION:LF94-VSS
TRIGGER:-PT1H
END:VALARM
END:VEVENT
BEGIN:VEVENT
DTSTAMP:20260419T164707Z
UID:1765192819842-18237@ical.marudot.com
DTSTART;TZID=Europe/Berlin:20260227T200000
DTEND;TZID=Europe/Berlin:20260227T220000
SUMMARY:LF94-MGV
DESCRIPTION:Mitgliederversammlung
LOCATION:Haus Baumeister
BEGIN:VALARM
ACTION:DISPLAY
DESCRIPTION:LF94-MGV
TRIGGER:-PT1H
END:VALARM
END:VEVENT
BEGIN:VEVENT
DTSTAMP:20260419T164707Z
UID:1772647581703-54387@ical.marudot.com
DTSTART;TZID=Europe/Berlin:20260326T190000
DTEND;TZID=Europe/Berlin:20260326T200000
SUMMARY:Pokalschießen der Bruderschaft
DESCRIPTION:Pokalschießen der Bruderschaft
LOCATION:TSV Schießanlage Nierster-Str.
BEGIN:VALARM
ACTION:DISPLAY
DESCRIPTION:Pokalschießen der Bruderschaft
TRIGGER:-PT1H
END:VALARM
END:VEVENT
BEGIN:VEVENT
DTSTAMP:20260419T164707Z
UID:1765192969066-28065@ical.marudot.com
DTSTART;TZID=Europe/Berlin:20260415T200000
DTEND;TZID=Europe/Berlin:20260415T220000
SUMMARY:LF94-32 Jahre
DESCRIPTION:32 Jahre Lanker Freischützen 1994
LOCATION:Zur Alten Post
BEGIN:VALARM
ACTION:DISPLAY
DESCRIPTION:LF94-32 Jahre
TRIGGER:-PT1H
END:VALARM
END:VEVENT
BEGIN:VEVENT
DTSTAMP:20260419T164707Z
UID:1765193003025-60910@ical.marudot.com
DTSTART;TZID=Europe/Berlin:20260505T200000
DTEND;TZID=Europe/Berlin:20260505T210000
SUMMARY:LF94-VSS
DESCRIPTION:Vorstandssitzung (Nur Vorstand)
LOCATION:Haus Baumeister
BEGIN:VALARM
ACTION:DISPLAY
DESCRIPTION:LF94-VSS
TRIGGER:-PT1H
END:VALARM
END:VEVENT
BEGIN:VEVENT
DTSTAMP:20260419T164707Z
UID:1765193082893-39742@ical.marudot.com
DTSTART;TZID=Europe/Berlin:20260514T100000
DTEND;TZID=Europe/Berlin:20260514T200000
SUMMARY:LF94-Vatertagstour
DESCRIPTION:Vatertagstour
LOCATION:Treffpunkt Haus Baumeister
BEGIN:VALARM
ACTION:DISPLAY
DESCRIPTION:LF94-Vatertagstour
TRIGGER:-PT1H
END:VALARM
END:VEVENT
BEGIN:VEVENT
DTSTAMP:20260419T164707Z
UID:1765193131698-40309@ical.marudot.com
DTSTART;TZID=Europe/Berlin:20260522T200000
DTEND;TZID=Europe/Berlin:20260522T220000
SUMMARY:LF94-MGV
DESCRIPTION:Mitgliederversammlung
LOCATION:Haus Baumeister
BEGIN:VALARM
ACTION:DISPLAY
DESCRIPTION:LF94-MGV
TRIGGER:-PT1H
END:VALARM
END:VEVENT
BEGIN:VEVENT
DTSTAMP:20260419T164707Z
UID:1765193245613-85639@ical.marudot.com
DTSTART;TZID=Europe/Berlin:20260530T140000
DTEND;TZID=Europe/Berlin:20260530T230000
SUMMARY:LF94-Kompanie-Königsschießen
DESCRIPTION:Kompanie Königsschießen bei Jassi
LOCATION:Kaiserswerther-Straße
BEGIN:VALARM
ACTION:DISPLAY
DESCRIPTION:LF94-Kompanie-Königsschießen
TRIGGER:-PT1H
END:VALARM
END:VEVENT
BEGIN:VEVENT
DTSTAMP:20260419T164707Z
UID:1765193324672-89254@ical.marudot.com
DTSTART;TZID=Europe/Berlin:20260604T090000
DTEND;TZID=Europe/Berlin:20260604T120000
SUMMARY:LF94-Fronleichnam
DESCRIPTION:Fronleichnamsprozession in Osterath
LOCATION:Osterath
BEGIN:VALARM
ACTION:DISPLAY
DESCRIPTION:LF94-Fronleichnam
TRIGGER:-PT1H
END:VALARM
END:VEVENT
BEGIN:VEVENT
DTSTAMP:20260419T164707Z
UID:1765193409500-25238@ical.marudot.com
DTSTART;TZID=Europe/Berlin:20260626T140000
DTEND;TZID=Europe/Berlin:20260628T220000
SUMMARY:LF94-Königs- und Prinzenvogelschießen
DESCRIPTION:Königs- und Prinzenvogelschießen der Bruderschaft
LOCATION:Siehe Dienstplan
BEGIN:VALARM
ACTION:DISPLAY
DESCRIPTION:LF94-Königs- und Prinzenvogelschießen
TRIGGER:-PT1H
END:VALARM
END:VEVENT
BEGIN:VEVENT
DTSTAMP:20260419T164707Z
UID:1765193473809-13064@ical.marudot.com
DTSTART;TZID=Europe/Berlin:20260825T200000
DTEND;TZID=Europe/Berlin:20260825T210000
SUMMARY:LF94-VSS
DESCRIPTION:Vorstandssitzung (Nur Vorstand)
LOCATION:Haus Baumeister
BEGIN:VALARM
ACTION:DISPLAY
DESCRIPTION:LF94-VSS
TRIGGER:-PT1H
END:VALARM
END:VEVENT
BEGIN:VEVENT
DTSTAMP:20260419T164707Z
UID:1765193517295-63866@ical.marudot.com
DTSTART;TZID=Europe/Berlin:20260828T200000
DTEND;TZID=Europe/Berlin:20260828T230000
SUMMARY:LF94-MGV im Zelt
DESCRIPTION:Mitgliederversammlung im Zelt
LOCATION:Pappelallee
BEGIN:VALARM
ACTION:DISPLAY
DESCRIPTION:LF94-MGV im Zelt
TRIGGER:-PT1H
END:VALARM
END:VEVENT
BEGIN:VEVENT
DTSTAMP:20260419T164707Z
UID:1765193572556-99147@ical.marudot.com
DTSTART;TZID=Europe/Berlin:20260829T140000
DTEND;TZID=Europe/Berlin:20260829T230000
SUMMARY:LF94-Fahrradrallye
DESCRIPTION:Fahrrad-Rallye
LOCATION:Sportplatz Pappelallee
BEGIN:VALARM
ACTION:DISPLAY
DESCRIPTION:LF94-Fahrradrallye
TRIGGER:-PT1H
END:VALARM
END:VEVENT
BEGIN:VEVENT
DTSTAMP:20260419T164707Z
UID:1765193622433-53865@ical.marudot.com
DTSTART;TZID=Europe/Berlin:20261020T200000
DTEND;TZID=Europe/Berlin:20261020T210000
SUMMARY:LF94-VSS
DESCRIPTION:Vorstandssitzung (Nur Vorstand)
LOCATION:Haus Baumeister
BEGIN:VALARM
ACTION:DISPLAY
DESCRIPTION:LF94-VSS
TRIGGER:-PT1H
END:VALARM
END:VEVENT
BEGIN:VEVENT
DTSTAMP:20260419T164707Z
UID:1765193664423-28456@ical.marudot.com
DTSTART;TZID=Europe/Berlin:20261106T200000
DTEND;TZID=Europe/Berlin:20261106T220000
SUMMARY:LF94-JHV
DESCRIPTION:Jahreshauptversammlung
LOCATION:Haus Baumeister
BEGIN:VALARM
ACTION:DISPLAY
DESCRIPTION:LF94-JHV
TRIGGER:-PT1H
END:VALARM
END:VEVENT
BEGIN:VEVENT
DTSTAMP:20260419T164707Z
UID:1765193724436-60496@ical.marudot.com
DTSTART;TZID=Europe/Berlin:20261111T170000
DTEND;TZID=Europe/Berlin:20261111T190000
SUMMARY:LF94-Sankt Martin
DESCRIPTION:Sankt Martin Zugbegleitung
LOCATION:Siehe Einladung
BEGIN:VALARM
ACTION:DISPLAY
DESCRIPTION:LF94-Sankt Martin
TRIGGER:-PT1H
END:VALARM
END:VEVENT
END:VCALENDAR